BEGIN:VCALENDAR
VERSION:2.0
PRODID:-//American Drama Group Europe - ECPv5.16.4//NONSGML v1.0//EN
CALSCALE:GREGORIAN
METHOD:PUBLISH
X-WR-CALNAME:American Drama Group Europe
X-ORIGINAL-URL:https://www.adg-europe.com
X-WR-CALDESC:Events for American Drama Group Europe
BEGIN:VTIMEZONE
TZID:UTC
BEGIN:STANDARD
TZOFFSETFROM:+0000
TZOFFSETTO:+0000
TZNAME:UTC
DTSTART:20260101T000000
END:STANDARD
END:VTIMEZONE
BEGIN:VEVENT
DTSTART;TZID=UTC:20260528T183000
DTEND;TZID=UTC:20260528T200000
DTSTAMP:20260424T172000
CREATED:20260423T122123Z
LAST-MODIFIED:20260423T123304Z
UID:30933-1779993000-1779998400@www.adg-europe.com
SUMMARY:Castle Tour 2026 - Macbeth - Cité Universitaire de Paris
DESCRIPTION:Jardins de la Fondation Deutsch de la Meurthe\nFor more information: ADGE 089/343803 or info@adg-europe.com.						\n				\n					\n				\n		\n					\n		\n				\n		\n				\n				\n					\n			\n						\n									Buy tickets
URL:https://www.adg-europe.com/event/castle-tour-2026-macbeth-cite-universitaire-de-paris/
LOCATION:Cité Universitaire de Paris\, 37 Bd Jourdan\, Paris\, 75014\, France
CATEGORIES:Macbeth by William Shakespeare
ATTACH;FMTTYPE=image/png:https://www.adg-europe.com/wp-content/uploads/2026/01/MB-600x500-1.png
END:VEVENT
END:VCALENDAR